BEGIN:VCALENDAR
VERSION:2.0
PRODID:-//FINANCIAL PLANNING News - ECPv6.14.2//NONSGML v1.0//EN
CALSCALE:GREGORIAN
METHOD:PUBLISH
X-ORIGINAL-URL:https://financialplanning-news.de
X-WR-CALDESC:Veranstaltungen für FINANCIAL PLANNING News
REFRESH-INTERVAL;VALUE=DURATION:PT1H
X-Robots-Tag:noindex
X-PUBLISHED-TTL:PT1H
BEGIN:VTIMEZONE
TZID:Europe/Berlin
BEGIN:DAYLIGHT
TZOFFSETFROM:+0100
TZOFFSETTO:+0200
TZNAME:CEST
DTSTART:20220327T010000
END:DAYLIGHT
BEGIN:STANDARD
TZOFFSETFROM:+0200
TZOFFSETTO:+0100
TZNAME:CET
DTSTART:20221030T010000
END:STANDARD
BEGIN:DAYLIGHT
TZOFFSETFROM:+0100
TZOFFSETTO:+0200
TZNAME:CEST
DTSTART:20230326T010000
END:DAYLIGHT
BEGIN:STANDARD
TZOFFSETFROM:+0200
TZOFFSETTO:+0100
TZNAME:CET
DTSTART:20231029T010000
END:STANDARD
BEGIN:DAYLIGHT
TZOFFSETFROM:+0100
TZOFFSETTO:+0200
TZNAME:CEST
DTSTART:20240331T010000
END:DAYLIGHT
BEGIN:STANDARD
TZOFFSETFROM:+0200
TZOFFSETTO:+0100
TZNAME:CET
DTSTART:20241027T010000
END:STANDARD
END:VTIMEZONE
BEGIN:VEVENT
DTSTART;TZID=Europe/Berlin:20241105T090000
DTEND;TZID=Europe/Berlin:20241108T180000
DTSTAMP:20260420T201857
CREATED:20231218T113608Z
LAST-MODIFIED:20240929T184720Z
UID:10000153-1730797200-1731088800@financialplanning-news.de
SUMMARY:9. International Investment Conference Boston
DESCRIPTION:Am 05. November 2024 findet die 9. International Investment Conference statt\, dieses Mal in Boston. Bewerben Sie sich auf einen der begehrten Plätze und besuchen Sie unsere Assetmanager in den Offices vor Ort. \n\n\n\nNeben anregendem fachlichen Input erwarten Sie organisierte Team-Events und Networking auf höchstem Niveau.  \n\n\n\n	\n		Jetzt bewerben	\n\n\n\n\nPartner
URL:https://financialplanning-news.de/event/9-international-investment-conference-boston/
LOCATION:Boston
CATEGORIES:Liveevents
ATTACH;FMTTYPE=image/jpeg:https://financialplanning-news.de/wp-content/uploads/2023/12/boston-massachusetts-usa-skyline-over-boston-com-2023-11-27-05-10-41-utc-scaled.jpg
END:VEVENT
BEGIN:VEVENT
DTSTART;TZID=Europe/Berlin:20221002T090000
DTEND;TZID=Europe/Berlin:20221008T180000
DTSTAMP:20260420T201857
CREATED:20220222T113708Z
LAST-MODIFIED:20220805T092436Z
UID:10000077-1664701200-1665252000@financialplanning-news.de
SUMMARY:4. International Investment Conference New York & Boston
DESCRIPTION:Wir laden Sie herzlich zu unserer European Investment Conference in New York und/oder Boston vom 02. – 08. Oktober 2022 ein. \n\n\n\nBewerben Sie sich auf einen der begehrten Plätze für unsere European Investment Conference in New York und/oder Boston. Spannende Vorträge und Einblicke vor Ort erwarten Sie! \n\n\n\nFür Ihre Bewerbung laden Sie bitte den Bewerbungsbogen unter der Registrierung herunter und lassen uns diesen ausgefüllt und unterschrieben zukommen. Anschließend prüfen wir Ihre Bewerbung\, diese allein berechtigt aber nicht zur Teilnahme an der Veranstaltung. Die jeweilige Teilnahme muss explizit seitens des IFNP schriftlich bestätigt werden. \n\n\n\n	\n		Jetzt bewerben	\n\n\n\n\n\n\n\n\n	\n		Jetzt bewerben
URL:https://financialplanning-news.de/event/4-international-investment-conference-new-york-boston/
LOCATION:Boston
ATTACH;FMTTYPE=image/jpeg:https://financialplanning-news.de/wp-content/uploads/2020/10/boston-1.jpg
END:VEVENT
END:VCALENDAR